BEGIN:VCALENDAR
VERSION:2.0
PRODID:-//AudioTheme 3.0.2
BEGIN:VEVENT
UID:urn:uuid:31c2a03f-27c7-4356-a91d-0970ebe39521
URL:https://willbernard.com/shows/will-bernard-beth-custer/
DTSTART;TZID=GMT:20251018T030000
SUMMARY:Will Bernard Beth Custer
DESCRIPTION:Will Bernard Beth Custer 
LOCATION:Bird & Beckett Books & Records\, 653 Chenery Street\, San Francisco\, CA\, United States\, 94131
END:VEVENT
END:VCALENDAR
