BEGIN:VCALENDAR
VERSION:2.0
PRODID:-//AudioTheme 3.0.2
BEGIN:VEVENT
UID:urn:uuid:bd2ad01d-a775-4390-a8ec-28d2a381627b
URL:https://willbernard.com/shows/will-bernard-beth-custer-ellen-gronningen/
DTSTART;TZID=GMT:20231224T030000
SUMMARY:Will Bernard  Beth Custer Ellen Gronningen
DESCRIPTION:Will Bernard  Beth Custer Ellen Gronningen
LOCATION:Bird & Beckett Books & Records\, 653 Chenery Street\, San Francisco\, CA\, United States\, 94131
END:VEVENT
END:VCALENDAR
