BEGIN:VCALENDAR
VERSION:2.0
PRODID:-//AudioTheme 3.0.2
BEGIN:VEVENT
UID:urn:uuid:20480fad-fae8-4bbd-99a3-0ea76183dbe5
URL:https://willbernard.com/shows/will-bernard-beth-custer-ellen-gronningen-5/
DTSTART;TZID=GMT:20240928T030000
SUMMARY:Will Bernard/Beth Custer/ Ellen Gronningen
LOCATION:Strum\, 1415 Southeast Stark Street\, Portland\, OR\, United States\, 97214
END:VEVENT
END:VCALENDAR
