BEGIN:VCALENDAR
VERSION:2.0
PRODID:-//AudioTheme 3.0.2
BEGIN:VEVENT
UID:urn:uuid:1c73f909-21eb-40b4-b6f4-5e594e7b57e9
URL:https://willbernard.com/shows/will-bernard-beth-custer-duo-3/
DTSTART;TZID=GMT:20230910T230000
SUMMARY:Will Bernard/ Beth Custer Duo
DESCRIPTION:Will Bernard/ Beth Custer Duo
LOCATION:Lucie Stern Community Center\, 1305 Middlefield Road\, Palo Alto\, CA\, United States\, 94301
END:VEVENT
END:VCALENDAR
