BEGIN:VCALENDAR
VERSION:2.0
PRODID:-//AudioTheme 3.0.2
BEGIN:VEVENT
UID:urn:uuid:0924ddf7-1d0f-4977-9262-dae9dda5f23c
URL:https://willbernard.com/shows/will-bernard-ben-perowsky-jonathon-goldberger-brad-jones/
DTSTART;TZID=GMT:20191017T000000
SUMMARY:Will Bernard, Ben Perowsky, Jonathon Goldberger, Brad Jones
DESCRIPTION:Will Bernard\, Ben Perowsky\, Jonathon Goldberger\, Brad Jones
LOCATION:The Stone @the new school\, 55 W 13th St\, New York\, NY\, United States\, 10011
END:VEVENT
END:VCALENDAR
