BEGIN:VCALENDAR
VERSION:2.0
PRODID:-//AudioTheme 3.0.2
BEGIN:VEVENT
UID:urn:uuid:8988dc9d-a48c-4f32-bdd8-d4246f03ba86
URL:https://willbernard.com/shows/will-bernard-ben-golberg-duo/
DTSTART;TZID=GMT:20251016T030000
SUMMARY:Will Bernard Ben Golberg duo
DESCRIPTION:Will Bernard Ben Golberg duo
LOCATION:Babette\, 2033 San Pablo Avenue\, Berkeley\, CA\, United States\, 94702
END:VEVENT
END:VCALENDAR
