BEGIN:VCALENDAR
VERSION:2.0
PRODID:-//AudioTheme 3.0.2
BEGIN:VEVENT
UID:urn:uuid:b1cf7cbf-bd2e-4875-80f3-d14f2e447434
URL:https://willbernard.com/shows/will-bernard-band-7/
DTSTART;TZID=GMT:20190108T030000
SUMMARY:Will Bernard Band
LOCATION:Rockwood Music Hall\, 196 Allen Street\, New York\, NY\, USA\, 10002
END:VEVENT
END:VCALENDAR
