BEGIN:VCALENDAR
VERSION:2.0
PRODID:-//AudioTheme 3.0.2
BEGIN:VEVENT
UID:urn:uuid:9d22c4a0-c5e8-40ad-90b2-018a3f6bd106
URL:https://willbernard.com/shows/will-bernard-band-6/
DTSTART;TZID=GMT:20181210T010000
SUMMARY:Will Bernard Band
DESCRIPTION:Will Bernard - guitar\, Eric Kalb - drums\, Moses Patrou - percussion and vocals\, Eric Finland - organ
LOCATION:The Falcon\, 1348 U.S. 9W\, Marlboro\, NY\, United States\, 12542
END:VEVENT
END:VCALENDAR
