BEGIN:VCALENDAR
VERSION:2.0
PRODID:-//AudioTheme 3.0.2
BEGIN:VEVENT
UID:urn:uuid:b4f79df3-e16f-4d8b-a61a-e910a15a586b
URL:https://willbernard.com/shows/will-bernard-art-lande-mike-mcginnis-brian-drye-bruce-williamson-matt-wilson/
DTSTART;TZID=GMT:20190805T000000
SUMMARY:Will Bernard, Art Lande, Mike Mcginnis, Brian Drye, Bruce Williamson Matt Wilson
DESCRIPTION:Will Bernard\, Art Lande\, Mike Mcginnis\, Brian Drye\, Bruce Williamson Matt Wilson
LOCATION:Ibeam Brooklyn\, 168 7th Street\, \, NY\, United States\, 11215
END:VEVENT
END:VCALENDAR
