BEGIN:VCALENDAR
VERSION:2.0
PRODID:-//AudioTheme 3.0.2
BEGIN:VEVENT
UID:urn:uuid:a350814a-3c4b-46a9-9abf-d5e21948926b
URL:https://willbernard.com/shows/will-bernard-and-mike-mcmginnis/
DTSTART;TZID=GMT:20231129T003000
SUMMARY:Will Bernard and Mike McMginnis
DESCRIPTION:Will Bernard and Mike McMginnis
LOCATION:Downtown Music Gallery\, 13 Monroe Street\, New York\, NY\, United States\, 10002
END:VEVENT
END:VCALENDAR
