BEGIN:VCALENDAR
VERSION:2.0
PRODID:-//AudioTheme 3.0.2
BEGIN:VEVENT
UID:urn:uuid:b96e743f-6ce2-4a66-b71d-8f780887c2fd
URL:https://willbernard.com/shows/will-bernard-and-friends-late-night-cafe-istanbul/
DTSTART;TZID=GMT:20200426T043000
SUMMARY:Will Bernard and Friends Late Night Cafe Istanbul
DESCRIPTION:Will Bernard and Friends Late Night Cafe Istanbul
LOCATION:Cafe Istanbul\, 2372 Saint Claude Avenue\, New Orleans\, LA\, United States\, 70117
END:VEVENT
END:VCALENDAR
