BEGIN:VCALENDAR
VERSION:2.0
PRODID:-//AudioTheme 3.0.2
BEGIN:VEVENT
UID:urn:uuid:7511709c-039a-4b80-8112-cb3fa9db8307
URL:https://willbernard.com/shows/will-bernard-and-friends-9/
DTSTART;TZID=GMT:20240122T020000
SUMMARY:Will Bernard and Friends
DESCRIPTION:Will Bernard and Friends
LOCATION:Chickie Wah Wah\, 2828 Canal Street\, New Orleans\, LA\, United States\, 70119
END:VEVENT
END:VCALENDAR
