BEGIN:VCALENDAR
VERSION:2.0
PRODID:-//AudioTheme 3.0.2
BEGIN:VEVENT
UID:urn:uuid:78f60986-9771-4e2b-bc61-212afc4c10b6
URL:https://willbernard.com/shows/will-bernard-and-friends-8/
DTSTART;TZID=GMT:20221031T020000
SUMMARY:Will Bernard and friends
LOCATION:Barbès\, 376 9th Street\, \, NY\, United States\, 11215
END:VEVENT
END:VCALENDAR
