BEGIN:VCALENDAR
VERSION:2.0
PRODID:-//AudioTheme 3.0.2
BEGIN:VEVENT
UID:urn:uuid:78bc14c1-e169-4307-a240-df5219e3d3eb
URL:https://willbernard.com/shows/will-bernard-and-friends-10/
DTSTART;TZID=GMT:20240705T000000
SUMMARY:Will Bernard and Friends
DESCRIPTION:Will Bernard and Friends
LOCATION:Jupiter\, 2181 Shattuck ave\, Berkeley\, CA\, USA	\, 94704
END:VEVENT
END:VCALENDAR
