BEGIN:VCALENDAR
VERSION:2.0
PRODID:-//AudioTheme 3.0.2
BEGIN:VEVENT
UID:urn:uuid:c21fc172-4b93-4e74-8e50-bae3fb6ce504
URL:https://willbernard.com/shows/will-bernard-and-freelance-subversives/
DTSTART;TZID=GMT:20210722T200000
SUMMARY:Will Bernard and Freelance Subversives
DESCRIPTION:Will Bernard and Freelance Subversives
LOCATION:Colony\, 22 Rock City Road\, Woodstock\, NY\, United States\, 12498
END:VEVENT
END:VCALENDAR
