BEGIN:VCALENDAR
VERSION:2.0
PRODID:-//AudioTheme 3.0.2
BEGIN:VEVENT
UID:urn:uuid:2b635110-c87f-4ca8-8e05-88aa304d1b63
URL:https://willbernard.com/shows/will-bernard-and-freelance-subversives-vagabond-ball/
DTSTART;TZID=GMT:20200302T010000
SUMMARY:Will Bernard and Freelance Subversives (Vagabond ball)
DESCRIPTION:ard and Freelance Subversives (Vagabond ball) . Huge Bay Area in New York party
LOCATION:The Sultan Room\, 234 Starr Street\, \, NY\, United States\, 11237
END:VEVENT
END:VCALENDAR
