BEGIN:VCALENDAR
VERSION:2.0
PRODID:-//AudioTheme 3.0.2
BEGIN:VEVENT
UID:urn:uuid:bf513ee9-1793-4cf2-95e3-790190f435ac
URL:https://willbernard.com/shows/will-bernard-and-freelance-subversives-eric-kalb-adam-minkoff-danny-fox/
DTSTART;TZID=GMT:20250212T023000
SUMMARY:Will Bernard and Freelance Subversives Eric Kalb, Adam Minkoff, Danny Fox
DESCRIPTION:Will Bernard and Freelance Subversives Eric Kalb\, Adam Minkoff\, Danny Fox
LOCATION:The Bitter End\, 147 Bleecker Street\, New York\, NY\, United States\, 10012
END:VEVENT
END:VCALENDAR
