BEGIN:VCALENDAR
VERSION:2.0
PRODID:-//AudioTheme 3.0.2
BEGIN:VEVENT
UID:urn:uuid:753de2b0-f22e-47cf-8495-a6658e28108d
URL:https://willbernard.com/shows/will-bernard-and-freelance-subversives-8/
DTSTART;TZID=GMT:20221112T000000
SUMMARY:Will Bernard and Freelance Subversives
DESCRIPTION:Will Bernard and Freelance Subversives
LOCATION:Boom Boom Room\, 1601 Fillmore St\, San Francisco\, CA\, USA	
END:VEVENT
END:VCALENDAR
