BEGIN:VCALENDAR
VERSION:2.0
PRODID:-//AudioTheme 3.0.2
BEGIN:VEVENT
UID:urn:uuid:28c67ab7-66c8-413c-ab37-e0fb8486f725
URL:https://willbernard.com/shows/will-bernard-and-freelance-subversives-3/
DTSTART;TZID=GMT:20220609T000000
SUMMARY:Will Bernard and Freelance Subversives
DESCRIPTION:Will Bernard and Freelance Subversives
LOCATION:Freight and Salvage\, 2020 Addison Street \, Berkeley\, CA\, USA	\, 94704
END:VEVENT
END:VCALENDAR
