BEGIN:VCALENDAR
VERSION:2.0
PRODID:-//AudioTheme 3.0.2
BEGIN:VEVENT
UID:urn:uuid:c2bfc2e5-6ebd-4f7d-8d95-f4df29767423
URL:https://willbernard.com/shows/will-bernard-and-freelance-subversives-18/
DTSTART;TZID=GMT:20250521T023000
SUMMARY:Will Bernard and Freelance Subversives
DESCRIPTION:Will Bernard and Freelance Subversives
LOCATION:The Bitter End\, 147 Bleecker Street\, New York\, NY\, United States\, 10012
END:VEVENT
END:VCALENDAR
