BEGIN:VCALENDAR
VERSION:2.0
PRODID:-//AudioTheme 3.0.2
BEGIN:VEVENT
UID:urn:uuid:76f21f2f-105d-4e76-8fc7-43a6e74ced00
URL:https://willbernard.com/shows/will-bernard-and-freelance-subversives-17/
DTSTART;TZID=GMT:20250524T000000
SUMMARY:Will Bernard and Freelance Subversives : Eric Kalb, Andy Hess, Todd Caldwell
DESCRIPTION:Will Bernard and Freelance Subversives : Eric Kalb\, Andy Hess\, Todd Caldwell
LOCATION:The Falcon\, 1348 U.S. 9W\, Marlboro\, NY\, United States\, 12542
END:VEVENT
END:VCALENDAR
