BEGIN:VCALENDAR
VERSION:2.0
PRODID:-//AudioTheme 3.0.2
BEGIN:VEVENT
UID:urn:uuid:cb39d6e0-80c2-4423-bbc1-a9c7537eb24e
URL:https://willbernard.com/shows/will-bernard-and-freelance-subversives-16/
DTSTART;TZID=GMT:20240518T000000
SUMMARY:Will Bernard and Freelance Subversives
DESCRIPTION:Will Bernard and Freelance Subversives
LOCATION:Bar Lunatico\,   486 Halsey Street    718 513-0339\, Brooklyn\,\,  NY\, USA\,  11233
END:VEVENT
END:VCALENDAR
