BEGIN:VCALENDAR
VERSION:2.0
PRODID:-//AudioTheme 3.0.2
BEGIN:VEVENT
UID:urn:uuid:fda76dee-a8c7-45d6-af9e-09f85d466c23
URL:https://willbernard.com/shows/will-bernard-and-freelance-subversives-15/
DTSTART;TZID=GMT:20240409T020000
SUMMARY:Will Bernard and Freelance Subversives
DESCRIPTION:Will Bernard and Freelance Subversives
LOCATION:Mitchell Park Community Center\, 3700 Middlefield Road\, Palo Alto\, CA\, United States\, 94303
END:VEVENT
END:VCALENDAR
