BEGIN:VCALENDAR
VERSION:2.0
PRODID:-//AudioTheme 3.0.2
BEGIN:VEVENT
UID:urn:uuid:660bddad-a869-4b3b-9c66-43a9a305eabf
URL:https://willbernard.com/shows/will-bernard-and-freelance-subversives-14/
DTSTART;TZID=GMT:20240412T030000
SUMMARY:Will Bernard and Freelance Subversives
DESCRIPTION:Will Bernard and Freelance Subversives
LOCATION:Ivy Room\, 860 San Pablo Avenue\, Albany\, CA\, United States\, 94706
END:VEVENT
END:VCALENDAR
