BEGIN:VCALENDAR
VERSION:2.0
PRODID:-//AudioTheme 3.0.2
BEGIN:VEVENT
UID:urn:uuid:b42cc28b-009e-42ed-8786-e4a79a6949f1
URL:https://willbernard.com/shows/will-bernard-and-freelance-subversives-12/
DTSTART;TZID=GMT:20230710T000000
SUMMARY:Will Bernard and Freelance Subversives
DESCRIPTION:Will Bernard and Freelance Subversives
LOCATION:Park City Music Hall\, 2926 Fairfield Avenue\, Bridgeport\, CT\, United States\, 06605
END:VEVENT
END:VCALENDAR
