BEGIN:VCALENDAR
VERSION:2.0
PRODID:-//AudioTheme 3.0.2
BEGIN:VEVENT
UID:urn:uuid:4cff19ff-37a0-4706-af56-93766cdc7b8d
URL:https://willbernard.com/shows/will-bernard-and-freelance-subversives-11/
DTSTART;TZID=GMT:20230702T200000
SUMMARY:Will Bernard and Freelance Subversives
DESCRIPTION:Will Bernard and Freelance Subversives
LOCATION:High Sierra Music Festival\, 204 fairground road\, Quincy\, CA\, United States
END:VEVENT
END:VCALENDAR
