BEGIN:VCALENDAR
VERSION:2.0
PRODID:-//AudioTheme 3.0.2
BEGIN:VEVENT
UID:urn:uuid:2519654d-d7de-46cc-8673-58fb80a344b4
URL:https://willbernard.com/shows/will-bernard-and-freelance-subversives-10/
DTSTART;TZID=GMT:20230226T010000
SUMMARY:Will Bernard and Freelance Subversives
DESCRIPTION:Will Bernard and Freelance Subversives
LOCATION:Bar Lunatico\,   486 Halsey Street    718 513-0339\, Brooklyn\,\,  NY\, USA\,  11233
END:VEVENT
END:VCALENDAR
