BEGIN:VCALENDAR
VERSION:2.0
PRODID:-//AudioTheme 3.0.2
BEGIN:VEVENT
UID:urn:uuid:0d864380-aa12-412b-9e68-63f4dbe57e12
URL:https://willbernard.com/shows/will-bernard-and-beth-custer-duo-2/
DTSTART;TZID=GMT:20181221T000000
SUMMARY:Will Bernard and Beth Custer duo
DESCRIPTION:Will Bernard and Beth Custer duo
LOCATION:Red Poppy Art House\, 2698 Folsom St\,\, San Francisco\,\, CA\, 94110
END:VEVENT
END:VCALENDAR
