BEGIN:VCALENDAR
VERSION:2.0
PRODID:-//AudioTheme 3.0.2
BEGIN:VEVENT
UID:urn:uuid:331817e9-beb1-45e4-8dd2-ef14abecfa36
URL:https://willbernard.com/shows/will-bernard-adam-minkoff-bill-campbell-todd-caldwell/
DTSTART;TZID=GMT:20221229T040000
SUMMARY:Will Bernard/Adam Minkoff/Bill Campbell/Todd Caldwell
DESCRIPTION:Will Bernard/Adam Minkoff/Bill Campbell/Todd Caldwell
LOCATION:Rockwood Music Hall\, 196 Allen Street\, New York\, NY\, USA\, 10002
END:VEVENT
END:VCALENDAR
