BEGIN:VCALENDAR
VERSION:2.0
PRODID:-//AudioTheme 3.0.2
BEGIN:VEVENT
UID:urn:uuid:3e9a0215-22e9-4a0e-987b-ef8ad6b66aeb
URL:https://willbernard.com/shows/will-bernard-adam-chilenski-bill-campbell/
DTSTART;TZID=GMT:20240825T233000
SUMMARY:Will Bernard, Adam Chilenski, Bill Campbell
DESCRIPTION:Will Bernard\, Adam Chilenski\, Bill Campbell
LOCATION:Groove\, 125 MacDougal Street\, New York\, NY\, United States\, 10012
END:VEVENT
END:VCALENDAR
