BEGIN:VCALENDAR
VERSION:2.0
PRODID:-//AudioTheme 3.0.2
BEGIN:VEVENT
UID:urn:uuid:e84b92d9-9e32-4c77-a575-8c4690debf4b
URL:https://willbernard.com/shows/w-beez-with-will-bernard-wil-blades-and-otis-mcdonald/
DTSTART;TZID=GMT:20250503T020000
SUMMARY:W-Beez with Will Bernard, Wil Blades and Otis McDonald
DESCRIPTION:W-Beez with Will Bernard\, Wil Blades and Otis McDonald
LOCATION:The Howlin' Wolf\, 907 South Peters Street\, New Orleans\, LA\, United States\, 70130
END:VEVENT
END:VCALENDAR
