BEGIN:VCALENDAR
VERSION:2.0
PRODID:-//AudioTheme 3.0.2
BEGIN:VEVENT
UID:urn:uuid:6c02ff14-b19a-4893-9351-33b9963d5eec
URL:https://willbernard.com/shows/w-beez-with-will-bernard-wil-blades-and-otis-mcdonald-2/
DTSTART;TZID=GMT:20260502T030000
SUMMARY:W-BEEZ with Will Bernard, Wil Blades and Otis Mcdonald
DESCRIPTION:W-BEEZ with Will Bernard\, Wil Blades and Otis Mcdonald
LOCATION:Blue Nile\, 532 Frenchmen Street\, New Orleans\, LA\, United States\, 70116
END:VEVENT
END:VCALENDAR
