BEGIN:VCALENDAR
VERSION:2.0
PRODID:-//AudioTheme 3.0.2
BEGIN:VEVENT
UID:urn:uuid:adfe978b-559f-4760-906a-f2f6b8e6e6fe
URL:https://willbernard.com/shows/w-beez-will-bernard-wil-blades/
DTSTART;TZID=GMT:20190503T020000
SUMMARY:W-Beez (Will Bernard, Wil Blades)
DESCRIPTION:W-Beez: Will Bernard\, Wil Blades\, Jermal Watson.
LOCATION:The Art Garage\, 2231 Saint Claude Avenue\, New Orleans\, LA\, United States\, 70117
END:VEVENT
END:VCALENDAR
