BEGIN:VCALENDAR
VERSION:2.0
PRODID:-//AudioTheme 3.0.2
BEGIN:VEVENT
UID:urn:uuid:d2f482f1-e5e2-4d9a-902d-656bb624d154
URL:https://willbernard.com/shows/w-beez-will-bernard-wil-blades-joe-cohen-joe-begale-mike-olmos/
DTSTART;TZID=GMT:20210911T000000
SUMMARY:W-Beez,  Featuring :Will Bernard, Wil Blades, Joe Cohen, Joe Begale, Mike Olmos
DESCRIPTION:W-Beez\, Will Bernard\, Wil Blades\, Joe Cohen\, Joe Begale\, Mike Olmos
LOCATION:Boom Boom Room\, 1601 Fillmore St\, San Francisco\, CA\, USA	
END:VEVENT
END:VCALENDAR
