BEGIN:VCALENDAR
VERSION:2.0
PRODID:-//AudioTheme 3.0.2
BEGIN:VEVENT
UID:urn:uuid:26f9a308-3f99-49e7-9f10-1618aa596f17
URL:https://willbernard.com/shows/w-beez-late-night-bayou-rendevouz/
DTSTART;TZID=GMT:20200502T043000
SUMMARY:W-Beez( Late nIght) Bayou Rendevouz
DESCRIPTION:W-Beez (Late nIght) Bayou Rendevouz   CANCELED DUE TO PANDEMIC
LOCATION:The Howlin' Wolf\, 907 South Peters Street\, New Orleans\, LA\, United States\, 70130
END:VEVENT
END:VCALENDAR
