BEGIN:VCALENDAR
VERSION:2.0
PRODID:-//AudioTheme 3.0.2
BEGIN:VEVENT
UID:urn:uuid:b070b935-8749-4972-826f-d41c9b55a22b
URL:https://willbernard.com/shows/w-beez-and-friends-2/
DTSTART;VALUE=DATE:20210912
SUMMARY:W-Beez and Friends
DESCRIPTION:W-Beez and Friends
LOCATION:Boom Boom Room\, 1601 Fillmore St\, San Francisco\, CA\, USA	
END:VEVENT
END:VCALENDAR
