BEGIN:VCALENDAR
VERSION:2.0
PRODID:-//AudioTheme 3.0.2
BEGIN:VEVENT
UID:urn:uuid:97f4a858-1b3a-4995-9657-40d93224a78a
URL:https://willbernard.com/shows/w-beez-6/
DTSTART;TZID=GMT:20220507T030000
SUMMARY:W-Beez (Will Bernard, Wil Blades and Terence Higgins)
DESCRIPTION:Brian Charette trio with Will Bernard and Jordan Young
LOCATION:The Howlin' Wolf\, 907 South Peters Street\, New Orleans\, LA\, United States\, 70130
END:VEVENT
END:VCALENDAR
