BEGIN:VCALENDAR
VERSION:2.0
PRODID:-//AudioTheme 3.0.2
BEGIN:VEVENT
UID:urn:uuid:6e91fd3b-f8f2-4dd9-80da-f0a35ca5632c
URL:https://willbernard.com/shows/tulas/
DTSTART;TZID=GMT:20190511T050000
SUMMARY:Will Bernard, Tarik Abouzied, Joe Doria
DESCRIPTION:Will Bernard\, Tarik Abouzied\, Joe Doria
LOCATION:Tula's Restaurant and Jazz Club\, 2214 2nd Avenue\, Seattle\, WA\, United States\, 98121
END:VEVENT
END:VCALENDAR
