BEGIN:VCALENDAR
VERSION:2.0
PRODID:-//AudioTheme 3.0.2
BEGIN:VEVENT
UID:urn:uuid:0ca532fe-8c85-4d1c-8fec-7dd3e1a14c70
URL:https://willbernard.com/shows/truckee-jazz-camp-3/
DTSTART;VALUE=DATE:20250623
SUMMARY:Truckee Jazz Camp
DESCRIPTION:Truckee Jazz Camp
LOCATION:Moody's Bistro Bar & Beats\, 10007 Bridge Street\, Truckee\, CA\, United States\, 96161
END:VEVENT
END:VCALENDAR
