BEGIN:VCALENDAR
VERSION:2.0
PRODID:-//AudioTheme 3.0.2
BEGIN:VEVENT
UID:urn:uuid:f5b44d6e-a055-4320-a5a9-0dd291945159
URL:https://willbernard.com/shows/truckee-jazz-camp-2/
DTSTART;TZID=GMT:20240624T190000
SUMMARY:Truckee Jazz Camp
DESCRIPTION:Truckee Jazz Camp
LOCATION:Moody's Bistro Bar & Beats\, 10007 Bridge Street\, Truckee\, CA\, United States\, 96161
END:VEVENT
END:VCALENDAR
