BEGIN:VCALENDAR
VERSION:2.0
PRODID:-//AudioTheme 3.0.2
BEGIN:VEVENT
UID:urn:uuid:0fd7ac72-6b00-4947-aed1-a5a87daa1f86
URL:https://willbernard.com/shows/the-munchies-dred-scott-kenny-brooks-diego-voglino-will-bernard-matt-pavolka/
DTSTART;TZID=GMT:20220523T010000
SUMMARY:The Munchies: Dred Scott, Kenny Brooks, Diego Voglino, Will Bernard, Matt Pavolka
DESCRIPTION:The Munchies: Dred Scott\, Kenny Brooks\, Diego Voglino\, Will Bernard\, Matt Pavolka
LOCATION:55 Bar\, 55 Christopher St.\, New York\, NY\, USA\, 10014
END:VEVENT
END:VCALENDAR
