BEGIN:VCALENDAR
VERSION:2.0
PRODID:-//AudioTheme 3.0.2
BEGIN:VEVENT
UID:urn:uuid:fa146c8a-e7a6-4e2b-85d0-78008e4e0cf0
URL:https://willbernard.com/shows/the-domestead/
DTSTART;TZID=GMT:20190302T000000
SUMMARY:The dOMestead
DESCRIPTION:Will Bernard\, Bill Carbone\, Eric Finland
LOCATION:The dOMestead\, Chester\, Connecticut
END:VEVENT
END:VCALENDAR
