BEGIN:VCALENDAR
VERSION:2.0
PRODID:-//AudioTheme 3.0.2
BEGIN:VEVENT
UID:urn:uuid:cc2c204c-797a-440c-8fe8-3fb5319769b0
URL:https://willbernard.com/shows/steven-bernsteins-mto-2/
DTSTART;TZID=GMT:20250802T203000
SUMMARY:Steven Bernstein's MTO
DESCRIPTION:Steven Bernstein's MTO
LOCATION:Rizzoli Bookstore\, 1133 Broadway\, New York\, NY\, United States\, 10010
END:VEVENT
END:VCALENDAR
