BEGIN:VCALENDAR
VERSION:2.0
PRODID:-//AudioTheme 3.0.2
BEGIN:VEVENT
UID:urn:uuid:adc8bf2b-7379-4df1-bbf1-084a86f78c20
URL:https://willbernard.com/shows/stanton-moore-trio-with-will-bernard-and-robert-walter-4/
DTSTART;TZID=GMT:20260504T020000
SUMMARY:Stanton Moore Trio with Will Bernard and Robert Walter
DESCRIPTION:Stanton Moore Trio with Will Bernard and Robert Walter
LOCATION:The Broadside\, 600 North Broad Street\, New Orleans\, LA\, United States\, 70119
END:VEVENT
END:VCALENDAR
