BEGIN:VCALENDAR
VERSION:2.0
PRODID:-//AudioTheme 3.0.2
BEGIN:VEVENT
UID:urn:uuid:b1c71daa-bd37-4796-8f37-fd832157f928
URL:https://willbernard.com/shows/stanton-moore-trio-and-frequinox/
DTSTART;TZID=GMT:20190506T030000
SUMMARY:Stanton Moore Trio and Frequinox
DESCRIPTION:Stanton Moore Trio and Frequinox
LOCATION:d.b.a.\, 618 Frenchmen Street\, New Orleans\, LA\, United States\, 70116
END:VEVENT
END:VCALENDAR
