BEGIN:VCALENDAR
VERSION:2.0
PRODID:-//AudioTheme 3.0.2
BEGIN:VEVENT
UID:urn:uuid:b2f50780-c16e-40eb-917c-505097204107
URL:https://willbernard.com/shows/stanton-moore-trio-and-frequinauts-2/
DTSTART;TZID=GMT:20250505T010000
SUMMARY:Stanton Moore Trio and Frequinauts
DESCRIPTION:Stanton Moore Trio and Frequinauts
LOCATION:The Broadside\, 600 North Broad Street\, New Orleans\, LA\, United States\, 70119
END:VEVENT
END:VCALENDAR
