BEGIN:VCALENDAR
VERSION:2.0
PRODID:-//AudioTheme 3.0.2
BEGIN:VEVENT
UID:urn:uuid:080c867a-2894-479a-a66a-329a3377119c
URL:https://willbernard.com/shows/stanton-moore-trio-9/
DTSTART;TZID=GMT:20240506T030000
SUMMARY:Stanton Moore Trio
DESCRIPTION:Stanton Moore Trio
LOCATION:The Broadside\, 600 North Broad Street\, New Orleans\, LA\, United States\, 70119
END:VEVENT
END:VCALENDAR
