BEGIN:VCALENDAR
VERSION:2.0
PRODID:-//AudioTheme 3.0.2
BEGIN:VEVENT
UID:urn:uuid:7de92241-76f4-478e-a895-735d71b3a7de
URL:https://willbernard.com/shows/stanton-moore-trio-8/
DTSTART;TZID=GMT:20220509T030000
SUMMARY:Stanton Moore Trio
DESCRIPTION:Stanton Moore Trio
LOCATION:d.b.a.\, 618 Frenchmen Street\, New Orleans\, LA\, United States\, 70116
END:VEVENT
END:VCALENDAR
