BEGIN:VCALENDAR
VERSION:2.0
PRODID:-//AudioTheme 3.0.2
BEGIN:VEVENT
UID:urn:uuid:a188cfbd-5f01-41e7-a56b-14d3aaedaf56
URL:https://willbernard.com/shows/stanton-moore-trio-7/
DTSTART;TZID=GMT:20200504T030000
SUMMARY:Stanton Moore Trio
DESCRIPTION:CANCELED DUE TO PANDEMIC
LOCATION:d.b.a.\, 618 Frenchmen Street\, New Orleans\, LA\, United States\, 70116
END:VEVENT
END:VCALENDAR
