BEGIN:VCALENDAR
VERSION:2.0
PRODID:-//AudioTheme 3.0.2
BEGIN:VEVENT
UID:urn:uuid:330e7293-6d92-43ca-ad43-09623d2b5911
URL:https://willbernard.com/shows/stanton-moore-trio-6/
DTSTART;TZID=GMT:20200424T030000
SUMMARY:Stanton Moore Trio
LOCATION:The Maison\, 508 Frenchmen Street\, New Orleans\, LA\, United States\, 70116
END:VEVENT
END:VCALENDAR
